Package: DECIPHER Version: 3.5.0 Command: /Library/Frameworks/R.framework/Resources/bin/R CMD INSTALL DECIPHER StartedAt: 2025-10-12 15:30:44 -0400 (Sun, 12 Oct 2025) EndedAt: 2025-10-12 15:32:00 -0400 (Sun, 12 Oct 2025) EllapsedTime: 76.1 seconds RetCode: 0 Status: OK