Package: DECIPHER Version: 3.5.0 Command: /Library/Frameworks/R.framework/Resources/bin/R CMD build --keep-empty-dirs --no-resave-data DECIPHER StartedAt: 2025-10-12 16:43:41 -0400 (Sun, 12 Oct 2025) EndedAt: 2025-10-12 17:08:22 -0400 (Sun, 12 Oct 2025) EllapsedTime: 1481.1 seconds RetCode: 0 Status: OK PackageFile: DECIPHER_3.5.0.tar.gz PackageFileSize: 17.89 MiB