Package: DECIPHER Version: 3.5.0 Command: rm -rf DECIPHER.buildbin-libdir && mkdir DECIPHER.buildbin-libdir && /Users/biocbuild/BBS/utils/build-universal.sh DECIPHER_3.5.0.tar.gz /Library/Frameworks/R.framework/Resources/bin/R DECIPHER.buildbin-libdir StartedAt: 2025-10-13 02:28:56 -0400 (Mon, 13 Oct 2025) EndedAt: 2025-10-13 02:30:21 -0400 (Mon, 13 Oct 2025) EllapsedTime: 84.2 seconds RetCode: 0 Status: OK PackageFile: DECIPHER_3.5.0.tgz PackageFileSize: 17.37 MiB