Package: DECIPHER Version: 3.5.0 Command: /Library/Frameworks/R.framework/Resources/bin/R CMD INSTALL DECIPHER StartedAt: 2025-09-30 15:09:59 -0400 (Tue, 30 Sep 2025) EndedAt: 2025-09-30 15:10:19 -0400 (Tue, 30 Sep 2025) EllapsedTime: 20.3 seconds RetCode: 0 Status: OK