Package: DECIPHER Version: 3.5.0 Command: rm -rf DECIPHER.buildbin-libdir && mkdir DECIPHER.buildbin-libdir && /Users/biocbuild/BBS/utils/build-universal.sh DECIPHER_3.5.0.tar.gz /Library/Frameworks/R.framework/Resources/bin/R DECIPHER.buildbin-libdir StartedAt: 2025-09-30 22:37:07 -0400 (Tue, 30 Sep 2025) EndedAt: 2025-09-30 22:37:29 -0400 (Tue, 30 Sep 2025) EllapsedTime: 22.4 seconds RetCode: 0 Status: OK PackageFile: DECIPHER_3.5.0.tgz PackageFileSize: 17.34 MiB