Package: DECIPHER Version: 3.5.1 Maintainer: Erik Wright MaintainerEmail: eswright at pitt.edu git_url: https://git.bioconductor.org/packages/DECIPHER git_branch: devel git_last_commit: 7f72453 git_last_commit_date: 2025-10-24 20:54:22 -0400 (Fri, 24 Oct 2025)