Package: DCATS Version: 1.9.0 Command: /home/biocbuild/bbs-3.23-bioc/R/bin/R CMD INSTALL DCATS StartedAt: 2025-11-02 15:11:40 -0500 (Sun, 02 Nov 2025) EndedAt: 2025-11-02 15:11:48 -0500 (Sun, 02 Nov 2025) EllapsedTime: 8.0 seconds RetCode: 0 Status: OK