Package: DCATS Version: 1.7.0 Command: /Library/Frameworks/R.framework/Resources/bin/R CMD INSTALL DCATS StartedAt: 2025-10-06 15:06:50 -0400 (Mon, 06 Oct 2025) EndedAt: 2025-10-06 15:07:27 -0400 (Mon, 06 Oct 2025) EllapsedTime: 36.4 seconds RetCode: 0 Status: OK