Package: DCATS Version: 1.7.0 Command: rm -rf DCATS.buildbin-libdir && mkdir DCATS.buildbin-libdir && /Users/biocbuild/BBS/utils/build-universal.sh DCATS_1.7.0.tar.gz /Library/Frameworks/R.framework/Resources/bin/R DCATS.buildbin-libdir StartedAt: 2025-10-07 02:06:04 -0400 (Tue, 07 Oct 2025) EndedAt: 2025-10-07 02:06:15 -0400 (Tue, 07 Oct 2025) EllapsedTime: 11.4 seconds RetCode: 0 Status: OK PackageFile: DCATS_1.7.0.tgz PackageFileSize: 2.866 MiB