Package: DART Version: 1.57.0 Command: /home/biocbuild/R/R/bin/R CMD INSTALL DART StartedAt: 2025-10-20 20:13:55 -0000 (Mon, 20 Oct 2025) EndedAt: 2025-10-20 20:14:26 -0000 (Mon, 20 Oct 2025) EllapsedTime: 31.1 seconds RetCode: 0 Status: OK