Package: DART Version: 1.59.0 Command: /home/biocbuild/bbs-3.23-bioc/R/bin/R CMD check --install=check:DART.install-out.txt --library=/home/biocbuild/bbs-3.23-bioc/R/site-library --timings DART_1.59.0.tar.gz StartedAt: 2025-11-21 22:40:44 -0500 (Fri, 21 Nov 2025) EndedAt: 2025-11-21 22:41:29 -0500 (Fri, 21 Nov 2025) EllapsedTime: 45.0 seconds RetCode: 0 Status: OK CheckDir: DART.Rcheck Warnings: 0