Package: DAPAR Version: 1.41.0 Command: /home/biocbuild/R/R/bin/R CMD INSTALL DAPAR StartedAt: 2025-10-20 20:55:13 -0000 (Mon, 20 Oct 2025) EndedAt: 2025-10-20 20:56:10 -0000 (Mon, 20 Oct 2025) EllapsedTime: 56.9 seconds RetCode: 0 Status: OK