Package: DAPAR Version: 1.41.0 Command: /Library/Frameworks/R.framework/Resources/bin/R CMD INSTALL DAPAR StartedAt: 2025-10-08 15:41:11 -0400 (Wed, 08 Oct 2025) EndedAt: 2025-10-08 15:42:13 -0400 (Wed, 08 Oct 2025) EllapsedTime: 61.7 seconds RetCode: 0 Status: OK