Package: DAPAR Version: 1.41.0 Command: /Library/Frameworks/R.framework/Resources/bin/R CMD build --keep-empty-dirs --no-resave-data DAPAR StartedAt: 2025-10-08 16:45:35 -0400 (Wed, 08 Oct 2025) EndedAt: 2025-10-08 16:45:37 -0400 (Wed, 08 Oct 2025) EllapsedTime: 2.3 seconds RetCode: 0 Status: OK PackageFile: DAPAR_1.41.0.tar.gz PackageFileSize: 150.4 KiB