Package: DAPAR Version: 1.41.0 Command: rm -rf DAPAR.buildbin-libdir && mkdir DAPAR.buildbin-libdir && /Users/biocbuild/BBS/utils/build-universal.sh DAPAR_1.41.0.tar.gz /Library/Frameworks/R.framework/Resources/bin/R DAPAR.buildbin-libdir StartedAt: 2025-10-10 02:30:57 -0400 (Fri, 10 Oct 2025) EndedAt: 2025-10-10 02:32:02 -0400 (Fri, 10 Oct 2025) EllapsedTime: 64.9 seconds RetCode: 0 Status: OK PackageFile: DAPAR_1.41.0.tgz PackageFileSize: 707.9 KiB