Package: DAMEfinder Version: 1.21.2 Command: /Library/Frameworks/R.framework/Resources/bin/R CMD INSTALL DAMEfinder StartedAt: 2025-10-16 15:35:17 -0400 (Thu, 16 Oct 2025) EndedAt: 2025-10-16 15:35:29 -0400 (Thu, 16 Oct 2025) EllapsedTime: 12.3 seconds RetCode: 0 Status: OK