Package: DAMEfinder Version: 1.21.2 Command: /Library/Frameworks/R.framework/Resources/bin/R CMD build --keep-empty-dirs --no-resave-data DAMEfinder StartedAt: 2025-10-16 16:19:06 -0400 (Thu, 16 Oct 2025) EndedAt: 2025-10-16 16:19:54 -0400 (Thu, 16 Oct 2025) EllapsedTime: 47.5 seconds RetCode: 0 Status: OK PackageFile: DAMEfinder_1.21.2.tar.gz PackageFileSize: 4.959 MiB