Package: DAMEfinder Version: 1.21.2 Command: rm -rf DAMEfinder.buildbin-libdir && mkdir DAMEfinder.buildbin-libdir && /Users/biocbuild/BBS/utils/build-universal.sh DAMEfinder_1.21.2.tar.gz /Library/Frameworks/R.framework/Resources/bin/R DAMEfinder.buildbin-libdir StartedAt: 2025-10-16 22:58:12 -0400 (Thu, 16 Oct 2025) EndedAt: 2025-10-16 22:58:25 -0400 (Thu, 16 Oct 2025) EllapsedTime: 13.3 seconds RetCode: 0 Status: OK PackageFile: DAMEfinder_1.21.2.tgz PackageFileSize: 5.051 MiB