Package: CytoPipelineGUI Version: 1.7.0 Command: /home/biocbuild/R/R/bin/R CMD check --install=check:CytoPipelineGUI.install-out.txt --library=/home/biocbuild/R/R/site-library --no-vignettes --timings CytoPipelineGUI_1.7.0.tar.gz StartedAt: 2025-09-26 06:53:28 -0000 (Fri, 26 Sep 2025) EndedAt: 2025-09-26 06:57:07 -0000 (Fri, 26 Sep 2025) EllapsedTime: 219.2 seconds RetCode: 0 Status: OK CheckDir: CytoPipelineGUI.Rcheck Warnings: 0