Package: CytoPipelineGUI Version: 1.9.0 Command: /home/biocbuild/bbs-3.23-bioc/R/bin/R CMD INSTALL CytoPipelineGUI StartedAt: 2025-11-02 15:41:47 -0500 (Sun, 02 Nov 2025) EndedAt: 2025-11-02 15:42:00 -0500 (Sun, 02 Nov 2025) EllapsedTime: 13.5 seconds RetCode: 0 Status: OK