Package: CytoPipelineGUI Version: 1.9.0 Command: /home/biocbuild/bbs-3.23-bioc/R/bin/R CMD check --install=check:CytoPipelineGUI.install-out.txt --library=/home/biocbuild/bbs-3.23-bioc/R/site-library --timings CytoPipelineGUI_1.9.0.tar.gz StartedAt: 2025-11-02 22:20:13 -0500 (Sun, 02 Nov 2025) EndedAt: 2025-11-02 22:23:58 -0500 (Sun, 02 Nov 2025) EllapsedTime: 224.3 seconds RetCode: 0 Status: OK CheckDir: CytoPipelineGUI.Rcheck Warnings: 0