Package: CytoPipeline Version: 1.9.4 Command: /home/biocbuild/bbs-3.22-bioc/R/bin/R CMD INSTALL CytoPipeline StartedAt: 2025-10-17 15:32:43 -0400 (Fri, 17 Oct 2025) EndedAt: 2025-10-17 15:32:58 -0400 (Fri, 17 Oct 2025) EllapsedTime: 15.4 seconds RetCode: 0 Status: OK