Package: CytoPipeline Version: 1.9.4 Command: /home/biocbuild/bbs-3.22-bioc/R/bin/R CMD build --keep-empty-dirs --no-resave-data --md5 CytoPipeline StartedAt: 2025-10-17 17:06:33 -0400 (Fri, 17 Oct 2025) EndedAt: 2025-10-17 17:07:20 -0400 (Fri, 17 Oct 2025) EllapsedTime: 47.0 seconds RetCode: 0 Status: OK PackageFile: CytoPipeline_1.9.4.tar.gz PackageFileSize: 3.197 MiB