Package: CytoPipeline Version: 1.11.0 Command: /home/biocbuild/bbs-3.23-bioc/R/bin/R CMD INSTALL CytoPipeline StartedAt: 2025-11-09 15:33:39 -0500 (Sun, 09 Nov 2025) EndedAt: 2025-11-09 15:33:55 -0500 (Sun, 09 Nov 2025) EllapsedTime: 16.2 seconds RetCode: 0 Status: OK