Package: CytoPipeline Version: 1.11.0 Command: /home/biocbuild/bbs-3.23-bioc/R/bin/R CMD check --install=check:CytoPipeline.install-out.txt --library=/home/biocbuild/bbs-3.23-bioc/R/site-library --timings CytoPipeline_1.11.0.tar.gz StartedAt: 2025-11-11 22:39:01 -0500 (Tue, 11 Nov 2025) EndedAt: 2025-11-11 22:44:12 -0500 (Tue, 11 Nov 2025) EllapsedTime: 310.4 seconds RetCode: 0 Status: OK CheckDir: CytoPipeline.Rcheck Warnings: 0