Package: CytoPipeline Version: 1.11.0 Command: /home/biocbuild/bbs-3.23-bioc/R/bin/R CMD build --keep-empty-dirs --no-resave-data CytoPipeline StartedAt: 2025-11-09 17:04:20 -0500 (Sun, 09 Nov 2025) EndedAt: 2025-11-09 17:05:08 -0500 (Sun, 09 Nov 2025) EllapsedTime: 47.0 seconds RetCode: 0 Status: OK PackageFile: CytoPipeline_1.11.0.tar.gz PackageFileSize: 3.193 MiB