Package: CytoPipeline Version: 1.9.4 Command: /Library/Frameworks/R.framework/Resources/bin/R CMD check --install=check:CytoPipeline.install-out.txt --library=/Library/Frameworks/R.framework/Resources/library --no-vignettes --timings CytoPipeline_1.9.4.tar.gz StartedAt: 2025-10-22 19:18:23 -0400 (Wed, 22 Oct 2025) EndedAt: 2025-10-22 19:20:05 -0400 (Wed, 22 Oct 2025) EllapsedTime: 102.2 seconds RetCode: 0 Status: OK CheckDir: CytoPipeline.Rcheck Warnings: 0