Package: CytoML Version: 2.21.0 Command: /home/biocbuild/R/R/bin/R CMD INSTALL CytoML StartedAt: 2025-10-02 20:58:20 -0000 (Thu, 02 Oct 2025) EndedAt: 2025-10-02 20:59:44 -0000 (Thu, 02 Oct 2025) EllapsedTime: 83.6 seconds RetCode: 0 Status: OK