Package: CytoML Version: 2.21.0 Command: chmod a+r CytoML -R && F:\biocbuild\bbs-3.22-bioc\R\bin\R.exe CMD build --keep-empty-dirs --no-resave-data CytoML StartedAt: 2025-08-14 19:27:44 -0400 (Thu, 14 Aug 2025) EndedAt: 2025-08-14 19:31:20 -0400 (Thu, 14 Aug 2025) EllapsedTime: 216.1 seconds RetCode: 0 Status: OK PackageFile: CytoML_2.21.0.tar.gz PackageFileSize: 10.54 MiB