Package: CytoML Version: 2.21.0 Command: rm -rf CytoML.buildbin-libdir && mkdir CytoML.buildbin-libdir && F:\biocbuild\bbs-3.22-bioc\R\bin\R.exe CMD INSTALL --build --library=CytoML.buildbin-libdir CytoML_2.21.0.tar.gz StartedAt: 2025-08-15 10:04:55 -0400 (Fri, 15 Aug 2025) EndedAt: 2025-08-15 10:09:12 -0400 (Fri, 15 Aug 2025) EllapsedTime: 257.4 seconds RetCode: 0 Status: OK PackageFile: CytoML_2.21.0.zip PackageFileSize: 10.33 MiB