Package: CytoML Version: 2.21.0 Command: /home/biocbuild/bbs-3.22-bioc/R/bin/R CMD INSTALL CytoML StartedAt: 2025-10-06 15:34:29 -0400 (Mon, 06 Oct 2025) EndedAt: 2025-10-06 15:35:28 -0400 (Mon, 06 Oct 2025) EllapsedTime: 58.4 seconds RetCode: 0 Status: OK