Package: CytoML Version: 2.21.0 Command: /home/biocbuild/bbs-3.22-bioc/R/bin/R CMD check --install=check:CytoML.install-out.txt --library=/home/biocbuild/bbs-3.22-bioc/R/site-library --timings CytoML_2.21.0.tar.gz StartedAt: 2025-10-05 22:58:26 -0400 (Sun, 05 Oct 2025) EndedAt: 2025-10-05 23:01:47 -0400 (Sun, 05 Oct 2025) EllapsedTime: 201.2 seconds RetCode: 0 Status: WARNINGS CheckDir: CytoML.Rcheck Warnings: 5