Package: CytoML Version: 2.21.0 Command: /home/biocbuild/bbs-3.22-bioc/R/bin/R CMD build --keep-empty-dirs --no-resave-data --md5 CytoML StartedAt: 2025-10-05 17:08:19 -0400 (Sun, 05 Oct 2025) EndedAt: 2025-10-05 17:09:49 -0400 (Sun, 05 Oct 2025) EllapsedTime: 90.1 seconds RetCode: 0 Status: OK PackageFile: CytoML_2.21.0.tar.gz PackageFileSize: 8.054 MiB