Package: CytoML Version: 2.23.0 Command: /home/biocbuild/bbs-3.23-bioc/R/bin/R CMD INSTALL CytoML StartedAt: 2025-11-19 15:38:41 -0500 (Wed, 19 Nov 2025) EndedAt: 2025-11-19 15:39:39 -0500 (Wed, 19 Nov 2025) EllapsedTime: 57.9 seconds RetCode: 0 Status: OK