Package: CytoML Version: 2.23.0 Command: /home/biocbuild/bbs-3.23-bioc/R/bin/R CMD check --install=check:CytoML.install-out.txt --library=/home/biocbuild/bbs-3.23-bioc/R/site-library --timings CytoML_2.23.0.tar.gz StartedAt: 2025-11-19 22:38:19 -0500 (Wed, 19 Nov 2025) EndedAt: 2025-11-19 22:41:29 -0500 (Wed, 19 Nov 2025) EllapsedTime: 189.3 seconds RetCode: 0 Status: WARNINGS CheckDir: CytoML.Rcheck Warnings: 5