Package: CytoML Version: 2.23.0 Command: /home/biocbuild/bbs-3.23-bioc/R/bin/R CMD build --keep-empty-dirs --no-resave-data CytoML StartedAt: 2025-11-19 17:10:59 -0500 (Wed, 19 Nov 2025) EndedAt: 2025-11-19 17:12:31 -0500 (Wed, 19 Nov 2025) EllapsedTime: 92.1 seconds RetCode: 0 Status: OK PackageFile: CytoML_2.23.0.tar.gz PackageFileSize: 8.053 MiB