Package: CytoML Version: 2.21.0 Command: /Library/Frameworks/R.framework/Resources/bin/R CMD INSTALL CytoML StartedAt: 2025-10-05 15:32:32 -0400 (Sun, 05 Oct 2025) EndedAt: 2025-10-05 15:33:49 -0400 (Sun, 05 Oct 2025) EllapsedTime: 77.4 seconds RetCode: 0 Status: OK