Package: CytoML Version: 2.21.0 Command: rm -rf CytoML.buildbin-libdir && mkdir CytoML.buildbin-libdir && /Users/biocbuild/BBS/utils/build-universal.sh CytoML_2.21.0.tar.gz /Library/Frameworks/R.framework/Resources/bin/R CytoML.buildbin-libdir StartedAt: 2025-10-06 01:56:23 -0400 (Mon, 06 Oct 2025) EndedAt: 2025-10-06 01:57:52 -0400 (Mon, 06 Oct 2025) EllapsedTime: 89.1 seconds RetCode: 0 Status: OK PackageFile: CytoML_2.21.0.tgz PackageFileSize: 9.59 MiB