Package: CytoML Version: 2.21.0 Command: /Library/Frameworks/R.framework/Resources/bin/R CMD INSTALL CytoML StartedAt: 2025-10-07 15:20:42 -0400 (Tue, 07 Oct 2025) EndedAt: 2025-10-07 15:21:02 -0400 (Tue, 07 Oct 2025) EllapsedTime: 20.4 seconds RetCode: 0 Status: OK