Package: CytoML Version: 2.21.0 Command: /Library/Frameworks/R.framework/Resources/bin/R CMD check --install=check:CytoML.install-out.txt --library=/Library/Frameworks/R.framework/Resources/library --no-vignettes --timings CytoML_2.21.0.tar.gz StartedAt: 2025-10-24 19:17:48 -0400 (Fri, 24 Oct 2025) EndedAt: 2025-10-24 19:18:50 -0400 (Fri, 24 Oct 2025) EllapsedTime: 62.8 seconds RetCode: 0 Status: WARNINGS CheckDir: CytoML.Rcheck Warnings: 5