Package: CytoML Version: 2.21.0 Command: /Library/Frameworks/R.framework/Resources/bin/R CMD build --keep-empty-dirs --no-resave-data CytoML StartedAt: 2025-10-05 16:06:00 -0400 (Sun, 05 Oct 2025) EndedAt: 2025-10-05 16:06:36 -0400 (Sun, 05 Oct 2025) EllapsedTime: 35.4 seconds RetCode: 0 Status: OK PackageFile: CytoML_2.21.0.tar.gz PackageFileSize: 8.559 MiB