Package: CytoML Version: 2.21.0 Command: rm -rf CytoML.buildbin-libdir && mkdir CytoML.buildbin-libdir && /Users/biocbuild/BBS/utils/build-universal.sh CytoML_2.21.0.tar.gz /Library/Frameworks/R.framework/Resources/bin/R CytoML.buildbin-libdir StartedAt: 2025-10-05 22:39:58 -0400 (Sun, 05 Oct 2025) EndedAt: 2025-10-05 22:40:22 -0400 (Sun, 05 Oct 2025) EllapsedTime: 23.5 seconds RetCode: 0 Status: OK PackageFile: CytoML_2.21.0.tgz PackageFileSize: 9.191 MiB