Package: CytoMDS Version: 1.5.0 Command: /home/biocbuild/R/R/bin/R CMD INSTALL CytoMDS StartedAt: 2025-10-23 20:57:52 -0000 (Thu, 23 Oct 2025) EndedAt: 2025-10-23 20:58:13 -0000 (Thu, 23 Oct 2025) EllapsedTime: 20.8 seconds RetCode: 0 Status: OK