Package: CytoMDS Version: 1.5.0 Command: /home/biocbuild/R/R/bin/R CMD build --keep-empty-dirs --no-resave-data CytoMDS StartedAt: 2025-10-20 23:07:54 -0000 (Mon, 20 Oct 2025) EndedAt: 2025-10-20 23:11:48 -0000 (Mon, 20 Oct 2025) EllapsedTime: 234.1 seconds RetCode: 0 Status: OK PackageFile: CytoMDS_1.5.0.tar.gz PackageFileSize: 3.278 MiB