Package: CytoMDS Version: 1.5.0 Command: /home/biocbuild/bbs-3.22-bioc/R/bin/R CMD check --install=check:CytoMDS.install-out.txt --library=/home/biocbuild/bbs-3.22-bioc/R/site-library --timings CytoMDS_1.5.0.tar.gz StartedAt: 2025-10-24 22:45:36 -0400 (Fri, 24 Oct 2025) EndedAt: 2025-10-24 22:55:08 -0400 (Fri, 24 Oct 2025) EllapsedTime: 571.5 seconds RetCode: 0 Status: OK CheckDir: CytoMDS.Rcheck Warnings: 0