Package: CytoMDS Version: 1.5.0 Command: /Library/Frameworks/R.framework/Resources/bin/R CMD INSTALL CytoMDS StartedAt: 2025-09-30 15:30:59 -0400 (Tue, 30 Sep 2025) EndedAt: 2025-09-30 15:31:21 -0400 (Tue, 30 Sep 2025) EllapsedTime: 21.3 seconds RetCode: 0 Status: OK