Package: CytoGLMM Version: 1.17.3 Command: /home/biocbuild/R/R/bin/R CMD INSTALL CytoGLMM StartedAt: 2025-10-23 20:28:43 -0000 (Thu, 23 Oct 2025) EndedAt: 2025-10-23 20:29:09 -0000 (Thu, 23 Oct 2025) EllapsedTime: 25.8 seconds RetCode: 0 Status: OK