Package: CytoGLMM Version: 1.17.3 Command: /home/biocbuild/R/R/bin/R CMD build --keep-empty-dirs --no-resave-data CytoGLMM StartedAt: 2025-10-20 23:07:35 -0000 (Mon, 20 Oct 2025) EndedAt: 2025-10-20 23:09:46 -0000 (Mon, 20 Oct 2025) EllapsedTime: 131.1 seconds RetCode: 0 Status: OK PackageFile: CytoGLMM_1.17.3.tar.gz PackageFileSize: 324.2 KiB