Package: CytoGLMM Version: 1.17.3 Command: /home/biocbuild/bbs-3.22-bioc/R/bin/R CMD check --install=check:CytoGLMM.install-out.txt --library=/home/biocbuild/bbs-3.22-bioc/R/site-library --timings CytoGLMM_1.17.3.tar.gz StartedAt: 2025-10-15 23:24:05 -0400 (Wed, 15 Oct 2025) EndedAt: 2025-10-15 23:28:21 -0400 (Wed, 15 Oct 2025) EllapsedTime: 255.4 seconds RetCode: 0 Status: OK CheckDir: CytoGLMM.Rcheck Warnings: 0