Package: CytoGLMM Version: 1.19.0 Command: /home/biocbuild/bbs-3.23-bioc/R/bin/R CMD check --install=check:CytoGLMM.install-out.txt --library=/home/biocbuild/bbs-3.23-bioc/R/site-library --timings CytoGLMM_1.19.0.tar.gz StartedAt: 2025-11-21 22:36:01 -0500 (Fri, 21 Nov 2025) EndedAt: 2025-11-21 22:39:46 -0500 (Fri, 21 Nov 2025) EllapsedTime: 224.4 seconds RetCode: 0 Status: OK CheckDir: CytoGLMM.Rcheck Warnings: 0